BEGIN:VCALENDAR
VERSION:2.0
PRODID:-//Thames Motorcycle Club - ECPv6.15.20//NONSGML v1.0//EN
CALSCALE:GREGORIAN
METHOD:PUBLISH
X-WR-CALNAME:Thames Motorcycle Club
X-ORIGINAL-URL:https://www.thamesmcc.org
X-WR-CALDESC:Events for Thames Motorcycle Club
REFRESH-INTERVAL;VALUE=DURATION:PT1H
X-Robots-Tag:noindex
X-PUBLISHED-TTL:PT1H
BEGIN:VTIMEZONE
TZID:Europe/London
BEGIN:DAYLIGHT
TZOFFSETFROM:+0000
TZOFFSETTO:+0100
TZNAME:BST
DTSTART:20160327T010000
END:DAYLIGHT
BEGIN:STANDARD
TZOFFSETFROM:+0100
TZOFFSETTO:+0000
TZNAME:GMT
DTSTART:20161030T010000
END:STANDARD
BEGIN:DAYLIGHT
TZOFFSETFROM:+0000
TZOFFSETTO:+0100
TZNAME:BST
DTSTART:20170326T010000
END:DAYLIGHT
BEGIN:STANDARD
TZOFFSETFROM:+0100
TZOFFSETTO:+0000
TZNAME:GMT
DTSTART:20171029T010000
END:STANDARD
BEGIN:DAYLIGHT
TZOFFSETFROM:+0000
TZOFFSETTO:+0100
TZNAME:BST
DTSTART:20180325T010000
END:DAYLIGHT
BEGIN:STANDARD
TZOFFSETFROM:+0100
TZOFFSETTO:+0000
TZNAME:GMT
DTSTART:20181028T010000
END:STANDARD
END:VTIMEZONE
BEGIN:VEVENT
DTSTART;TZID=Europe/London:20170105T200000
DTEND;TZID=Europe/London:20170105T230000
DTSTAMP:20260423T082147
CREATED:20161202T165253Z
LAST-MODIFIED:20161202T165253Z
UID:92-1483646400-1483657200@www.thamesmcc.org
SUMMARY:Club Night
DESCRIPTION:1st Thursday of every month- please do attend!\nThe Venue is now at Harehill Social Club. This new venue has a good interior\, with a good selection of beverages on offer and the facilities to hold our club nights in relative seclusion. It also is not that far away from the old venue which means it is just as accessible and no member has the excuse not to join us! \nDirections From M25:  Exit M25 at junction11 and take first exit down St Peters Way. At the end of the dual carriageway\, take the first exit and continue down Guildford road to the roundabout.  Take the first exit (sharp left from Guildford road) and continue down Murray Road leading into Spinney Hill.  You will pass a wine merchants on your right. After this there is a turning on the right called Rudge Rise. Turn right down this road and at the end turn left onto Ledger Drive.  You will see a road between two houses leading into a car park where the social club is situated. \nFrom Woking:  From the town centre\, take the A320 down Chertsey road until you reach the ‘Six crossroads’  On this roundabout take the third exit which continues down the A320. You will come to another roundabout where you will go straight over and pass McLaren’s on your left.  Keep following this road until you reach the roundabout which is mentioned in ‘point 2’ of the above directions and follow the next instructions \nFor those of you that have Sat Nav’s the postcode is KT15 1AT\, and the place name is Harehill Social Club
URL:https://www.thamesmcc.org/event/club-night/
LOCATION:Harehill Social Club\, Ledger Drive\, Addlestone\, Surrey\, KT15 1AT\, United Kingdom
CATEGORIES:Club Night
END:VEVENT
END:VCALENDAR