BEGIN:VCALENDAR
VERSION:2.0
PRODID:-//Thames Motorcycle Club - ECPv6.15.20//NONSGML v1.0//EN
CALSCALE:GREGORIAN
METHOD:PUBLISH
X-WR-CALNAME:Thames Motorcycle Club
X-ORIGINAL-URL:https://www.thamesmcc.org
X-WR-CALDESC:Events for Thames Motorcycle Club
REFRESH-INTERVAL;VALUE=DURATION:PT1H
X-Robots-Tag:noindex
X-PUBLISHED-TTL:PT1H
BEGIN:VTIMEZONE
TZID:Europe/London
BEGIN:DAYLIGHT
TZOFFSETFROM:+0000
TZOFFSETTO:+0100
TZNAME:BST
DTSTART:20240331T010000
END:DAYLIGHT
BEGIN:STANDARD
TZOFFSETFROM:+0100
TZOFFSETTO:+0000
TZNAME:GMT
DTSTART:20241027T010000
END:STANDARD
BEGIN:DAYLIGHT
TZOFFSETFROM:+0000
TZOFFSETTO:+0100
TZNAME:BST
DTSTART:20250330T010000
END:DAYLIGHT
BEGIN:STANDARD
TZOFFSETFROM:+0100
TZOFFSETTO:+0000
TZNAME:GMT
DTSTART:20251026T010000
END:STANDARD
BEGIN:DAYLIGHT
TZOFFSETFROM:+0000
TZOFFSETTO:+0100
TZNAME:BST
DTSTART:20260329T010000
END:DAYLIGHT
BEGIN:STANDARD
TZOFFSETFROM:+0100
TZOFFSETTO:+0000
TZNAME:GMT
DTSTART:20261025T010000
END:STANDARD
BEGIN:DAYLIGHT
TZOFFSETFROM:+0000
TZOFFSETTO:+0100
TZNAME:BST
DTSTART:20270328T010000
END:DAYLIGHT
BEGIN:STANDARD
TZOFFSETFROM:+0100
TZOFFSETTO:+0000
TZNAME:GMT
DTSTART:20271031T010000
END:STANDARD
END:VTIMEZONE
BEGIN:VEVENT
DTSTART;TZID=Europe/London:20250216T100000
DTEND;TZID=Europe/London:20250216T160000
DTSTAMP:20260423T215410
CREATED:20241217T131508Z
LAST-MODIFIED:20241217T131508Z
UID:7677-1739700000-1739721600@www.thamesmcc.org
SUMMARY:Club Trial
DESCRIPTION:
URL:https://www.thamesmcc.org/event/club-trial/
LOCATION:Hungry Hill\, Borley Road\, Aldershot\, Hampshire\, GU11 1PZ\, United Kingdom
CATEGORIES:Thames Club Trial
END:VEVENT
BEGIN:VEVENT
DTSTART;TZID=Europe/London:20250518T103000
DTEND;TZID=Europe/London:20250518T153000
DTSTAMP:20260423T215410
CREATED:20250325T105548Z
LAST-MODIFIED:20250325T105548Z
UID:8054-1747564200-1747582200@www.thamesmcc.org
SUMMARY:Normandy/ Thames Club Trial
DESCRIPTION:
URL:https://www.thamesmcc.org/event/normandy-thames-club-trial/
LOCATION:Sethern\, Rams Lane\, Dunsfold\, Surrey\, GU8 4NR\, United Kingdom
CATEGORIES:Thames Club Trial
END:VEVENT
BEGIN:VEVENT
DTSTART;TZID=Europe/London:20250817T103000
DTEND;TZID=Europe/London:20250817T160000
DTSTAMP:20260423T215410
CREATED:20241217T131858Z
LAST-MODIFIED:20241217T131858Z
UID:7681-1755426600-1755446400@www.thamesmcc.org
SUMMARY:Club Trial
DESCRIPTION:
URL:https://www.thamesmcc.org/event/club-trial-3/
LOCATION:Sethern\, Rams Lane\, Dunsfold\, Surrey\, GU8 4NR\, United Kingdom
CATEGORIES:Thames Club Trial
END:VEVENT
BEGIN:VEVENT
DTSTART;TZID=Europe/London:20251102T100000
DTEND;TZID=Europe/London:20251102T160000
DTSTAMP:20260423T215410
CREATED:20241217T131641Z
LAST-MODIFIED:20241217T131641Z
UID:7679-1762077600-1762099200@www.thamesmcc.org
SUMMARY:Club Trial
DESCRIPTION:
URL:https://www.thamesmcc.org/event/club-trial-2/
LOCATION:Bagshot Heath D1\, The Maultway\, Camberley\, Surrey\, GU15 1PS\, United Kingdom
CATEGORIES:Thames Club Trial
END:VEVENT
BEGIN:VEVENT
DTSTART;TZID=Europe/London:20260301T100000
DTEND;TZID=Europe/London:20260301T160000
DTSTAMP:20260423T215410
CREATED:20251212T074511Z
LAST-MODIFIED:20251212T075111Z
UID:8235-1772359200-1772380800@www.thamesmcc.org
SUMMARY:Club Trial at Hungry Hill
DESCRIPTION:
URL:https://www.thamesmcc.org/event/club-trial-at-bagshot-d1/
LOCATION:Hungry Hill\, Borley Road\, Aldershot\, Hampshire\, GU11 1PZ\, United Kingdom
CATEGORIES:Thames Club Trial
END:VEVENT
BEGIN:VEVENT
DTSTART;TZID=Europe/London:20260628T103000
DTEND;TZID=Europe/London:20260628T160000
DTSTAMP:20260423T215410
CREATED:20251212T075400Z
LAST-MODIFIED:20251212T075400Z
UID:8240-1782642600-1782662400@www.thamesmcc.org
SUMMARY:Ray Nott Memorial Trial at Dews Farm
DESCRIPTION:
URL:https://www.thamesmcc.org/event/ray-nott-memorial-trial-at-dews-farm/
LOCATION:Dews Farm\, Harvil Road\, Harefield\, Hillingdon\, Greater London\, UB9 6JW\, United Kingdom
CATEGORIES:Thames Club Trial
END:VEVENT
BEGIN:VEVENT
DTSTART;TZID=Europe/London:20261129T100000
DTEND;TZID=Europe/London:20261129T153000
DTSTAMP:20260423T215410
CREATED:20251212T075717Z
LAST-MODIFIED:20251212T075717Z
UID:8244-1795946400-1795966200@www.thamesmcc.org
SUMMARY:Club Trial at Bagshot D1
DESCRIPTION:
URL:https://www.thamesmcc.org/event/club-trial-at-bagshot-d1-2/
LOCATION:Bagshot Heath D1\, The Maultway\, Camberley\, Surrey\, GU15 1PS\, United Kingdom
CATEGORIES:Thames Club Trial
END:VEVENT
END:VCALENDAR