BEGIN:VCALENDAR
VERSION:2.0
PRODID:-//Thames Motorcycle Club - ECPv6.15.20//NONSGML v1.0//EN
CALSCALE:GREGORIAN
METHOD:PUBLISH
X-WR-CALNAME:Thames Motorcycle Club
X-ORIGINAL-URL:https://www.thamesmcc.org
X-WR-CALDESC:Events for Thames Motorcycle Club
REFRESH-INTERVAL;VALUE=DURATION:PT1H
X-Robots-Tag:noindex
X-PUBLISHED-TTL:PT1H
BEGIN:VTIMEZONE
TZID:Europe/London
BEGIN:DAYLIGHT
TZOFFSETFROM:+0000
TZOFFSETTO:+0100
TZNAME:BST
DTSTART:20230326T010000
END:DAYLIGHT
BEGIN:STANDARD
TZOFFSETFROM:+0100
TZOFFSETTO:+0000
TZNAME:GMT
DTSTART:20231029T010000
END:STANDARD
BEGIN:DAYLIGHT
TZOFFSETFROM:+0000
TZOFFSETTO:+0100
TZNAME:BST
DTSTART:20240331T010000
END:DAYLIGHT
BEGIN:STANDARD
TZOFFSETFROM:+0100
TZOFFSETTO:+0000
TZNAME:GMT
DTSTART:20241027T010000
END:STANDARD
BEGIN:DAYLIGHT
TZOFFSETFROM:+0000
TZOFFSETTO:+0100
TZNAME:BST
DTSTART:20250330T010000
END:DAYLIGHT
BEGIN:STANDARD
TZOFFSETFROM:+0100
TZOFFSETTO:+0000
TZNAME:GMT
DTSTART:20251026T010000
END:STANDARD
BEGIN:DAYLIGHT
TZOFFSETFROM:+0000
TZOFFSETTO:+0100
TZNAME:BST
DTSTART:20260329T010000
END:DAYLIGHT
BEGIN:STANDARD
TZOFFSETFROM:+0100
TZOFFSETTO:+0000
TZNAME:GMT
DTSTART:20261025T010000
END:STANDARD
BEGIN:DAYLIGHT
TZOFFSETFROM:+0000
TZOFFSETTO:+0100
TZNAME:BST
DTSTART:20270328T010000
END:DAYLIGHT
BEGIN:STANDARD
TZOFFSETFROM:+0100
TZOFFSETTO:+0000
TZNAME:GMT
DTSTART:20271031T010000
END:STANDARD
END:VTIMEZONE
BEGIN:VEVENT
DTSTART;TZID=Europe/London:20240324T103000
DTEND;TZID=Europe/London:20240324T160000
DTSTAMP:20260423T200529
CREATED:20240103T151626Z
LAST-MODIFIED:20240118T171341Z
UID:6462-1711276200-1711296000@www.thamesmcc.org
SUMMARY:TMCC Champs 24 Rnd 2
DESCRIPTION:
URL:https://www.thamesmcc.org/event/tmcc-champs-24-rnd-2/
LOCATION:Frensham Vale\, Gardeners Hill Rd\, Farnham\, Surrey\, GU9 9AZ\, United Kingdom
CATEGORIES:Thames Club Trial
END:VEVENT
BEGIN:VEVENT
DTSTART;TZID=Europe/London:20240519T103000
DTEND;TZID=Europe/London:20240519T160000
DTSTAMP:20260423T200529
CREATED:20240103T151716Z
LAST-MODIFIED:20240118T171402Z
UID:6464-1716114600-1716134400@www.thamesmcc.org
SUMMARY:TMCC Champs 24 Rnd 3
DESCRIPTION:
URL:https://www.thamesmcc.org/event/tmcc-champs-24-rnd-3/
LOCATION:Betchworth Quarry\, Reigate Road\, Brockham\, Betchworth\, Surrey\, RH3 7HD\, United Kingdom
CATEGORIES:Thames Club Trial
END:VEVENT
BEGIN:VEVENT
DTSTART;TZID=Europe/London:20240623T103000
DTEND;TZID=Europe/London:20240623T160000
DTSTAMP:20260423T200529
CREATED:20240118T171521Z
LAST-MODIFIED:20240118T171521Z
UID:6523-1719138600-1719158400@www.thamesmcc.org
SUMMARY:TMCC Champs 24 Rnd 4
DESCRIPTION:
URL:https://www.thamesmcc.org/event/tmcc-champs-24-rnd-4-2/
LOCATION:Dews Farm\, Harvil Road\, Harefield\, Hillingdon\, Greater London\, UB9 6JW\, United Kingdom
CATEGORIES:Thames Club Trial
END:VEVENT
BEGIN:VEVENT
DTSTART;TZID=Europe/London:20240728T103000
DTEND;TZID=Europe/London:20240728T160000
DTSTAMP:20260423T200529
CREATED:20240103T151905Z
LAST-MODIFIED:20240118T171602Z
UID:6469-1722162600-1722182400@www.thamesmcc.org
SUMMARY:TMCC Champs 24 Rnd 5
DESCRIPTION:
URL:https://www.thamesmcc.org/event/tmcc-champs-24-rnd-5/
LOCATION:The Rookery\, Basingstoke\, The Rookery\, Nr Basingstoke\, Hampshire\, RG23 8TH\, United Kingdom
CATEGORIES:Thames Club Trial
END:VEVENT
BEGIN:VEVENT
DTSTART;TZID=Europe/London:20240818T103000
DTEND;TZID=Europe/London:20240818T160000
DTSTAMP:20260423T200529
CREATED:20240103T152009Z
LAST-MODIFIED:20240118T171620Z
UID:6471-1723977000-1723996800@www.thamesmcc.org
SUMMARY:TMCC Champs 24 Rnd 6
DESCRIPTION:
URL:https://www.thamesmcc.org/event/tmcc-champs-24-rnd-6/
LOCATION:Sethern\, Rams Lane\, Dunsfold\, Surrey\, GU8 4NR\, United Kingdom
CATEGORIES:Thames Club Trial
END:VEVENT
BEGIN:VEVENT
DTSTART;TZID=Europe/London:20241013T103000
DTEND;TZID=Europe/London:20241013T160000
DTSTAMP:20260423T200529
CREATED:20240103T152404Z
LAST-MODIFIED:20240118T171728Z
UID:6479-1728815400-1728835200@www.thamesmcc.org
SUMMARY:The Thames Cup
DESCRIPTION:
URL:https://www.thamesmcc.org/event/the-thames-cup/
LOCATION:Hookwood Trials Centre\, West Horsley\, West Horsley\, Surrey\, KT24 6EA\, United Kingdom
CATEGORIES:Thames Club Trial
END:VEVENT
BEGIN:VEVENT
DTSTART;TZID=Europe/London:20241027T103000
DTEND;TZID=Europe/London:20241027T160000
DTSTAMP:20260423T200529
CREATED:20240103T152103Z
LAST-MODIFIED:20240118T171643Z
UID:6473-1730025000-1730044800@www.thamesmcc.org
SUMMARY:TMCC Champs 24 Rnd 7
DESCRIPTION:
URL:https://www.thamesmcc.org/event/tmcc-champs-24-rnd-7/
LOCATION:Frensham Vale\, Gardeners Hill Rd\, Farnham\, Surrey\, GU9 9AZ\, United Kingdom
CATEGORIES:Thames Club Trial
END:VEVENT
BEGIN:VEVENT
DTSTART;TZID=Europe/London:20241124T103000
DTEND;TZID=Europe/London:20241124T160000
DTSTAMP:20260423T200529
CREATED:20240103T152207Z
LAST-MODIFIED:20240118T171708Z
UID:6475-1732444200-1732464000@www.thamesmcc.org
SUMMARY:TMCC Champs 24 Rnd 8
DESCRIPTION:
URL:https://www.thamesmcc.org/event/tmcc-champs-24-rnd-8/
LOCATION:Bagshot Heath D2\, The Maultway\, Camberley\, Surrey\, GU15 1PS\, United Kingdom
CATEGORIES:Thames Club Trial
END:VEVENT
BEGIN:VEVENT
DTSTART;TZID=Europe/London:20241215T103000
DTEND;TZID=Europe/London:20241215T160000
DTSTAMP:20260423T200529
CREATED:20240103T152255Z
LAST-MODIFIED:20240118T171753Z
UID:6477-1734258600-1734278400@www.thamesmcc.org
SUMMARY:TMCC Champs 24 Rnd 9
DESCRIPTION:
URL:https://www.thamesmcc.org/event/tmcc-champs-24-rnd-9/
LOCATION:Hookwood Trials Centre\, West Horsley\, West Horsley\, Surrey\, KT24 6EA\, United Kingdom
CATEGORIES:Thames Club Trial
END:VEVENT
BEGIN:VEVENT
DTSTART;TZID=Europe/London:20241229T103000
DTEND;TZID=Europe/London:20241229T160000
DTSTAMP:20260423T200529
CREATED:20240103T152446Z
LAST-MODIFIED:20240118T171814Z
UID:6481-1735468200-1735488000@www.thamesmcc.org
SUMMARY:The Mike Kemp Classic Trial
DESCRIPTION:
URL:https://www.thamesmcc.org/event/the-mike-kemp-classic-trial/
LOCATION:Hungry Hill\, Borley Road\, Aldershot\, Hampshire\, GU11 1PZ\, United Kingdom
CATEGORIES:Thames Club Trial
END:VEVENT
BEGIN:VEVENT
DTSTART;TZID=Europe/London:20250216T100000
DTEND;TZID=Europe/London:20250216T160000
DTSTAMP:20260423T200529
CREATED:20241217T131508Z
LAST-MODIFIED:20241217T131508Z
UID:7677-1739700000-1739721600@www.thamesmcc.org
SUMMARY:Club Trial
DESCRIPTION:
URL:https://www.thamesmcc.org/event/club-trial/
LOCATION:Hungry Hill\, Borley Road\, Aldershot\, Hampshire\, GU11 1PZ\, United Kingdom
CATEGORIES:Thames Club Trial
END:VEVENT
BEGIN:VEVENT
DTSTART;TZID=Europe/London:20250518T103000
DTEND;TZID=Europe/London:20250518T153000
DTSTAMP:20260423T200529
CREATED:20250325T105548Z
LAST-MODIFIED:20250325T105548Z
UID:8054-1747564200-1747582200@www.thamesmcc.org
SUMMARY:Normandy/ Thames Club Trial
DESCRIPTION:
URL:https://www.thamesmcc.org/event/normandy-thames-club-trial/
LOCATION:Sethern\, Rams Lane\, Dunsfold\, Surrey\, GU8 4NR\, United Kingdom
CATEGORIES:Thames Club Trial
END:VEVENT
BEGIN:VEVENT
DTSTART;TZID=Europe/London:20250817T103000
DTEND;TZID=Europe/London:20250817T160000
DTSTAMP:20260423T200529
CREATED:20241217T131858Z
LAST-MODIFIED:20241217T131858Z
UID:7681-1755426600-1755446400@www.thamesmcc.org
SUMMARY:Club Trial
DESCRIPTION:
URL:https://www.thamesmcc.org/event/club-trial-3/
LOCATION:Sethern\, Rams Lane\, Dunsfold\, Surrey\, GU8 4NR\, United Kingdom
CATEGORIES:Thames Club Trial
END:VEVENT
BEGIN:VEVENT
DTSTART;TZID=Europe/London:20251102T100000
DTEND;TZID=Europe/London:20251102T160000
DTSTAMP:20260423T200529
CREATED:20241217T131641Z
LAST-MODIFIED:20241217T131641Z
UID:7679-1762077600-1762099200@www.thamesmcc.org
SUMMARY:Club Trial
DESCRIPTION:
URL:https://www.thamesmcc.org/event/club-trial-2/
LOCATION:Bagshot Heath D1\, The Maultway\, Camberley\, Surrey\, GU15 1PS\, United Kingdom
CATEGORIES:Thames Club Trial
END:VEVENT
BEGIN:VEVENT
DTSTART;TZID=Europe/London:20260301T100000
DTEND;TZID=Europe/London:20260301T160000
DTSTAMP:20260423T200529
CREATED:20251212T074511Z
LAST-MODIFIED:20251212T075111Z
UID:8235-1772359200-1772380800@www.thamesmcc.org
SUMMARY:Club Trial at Hungry Hill
DESCRIPTION:
URL:https://www.thamesmcc.org/event/club-trial-at-bagshot-d1/
LOCATION:Hungry Hill\, Borley Road\, Aldershot\, Hampshire\, GU11 1PZ\, United Kingdom
CATEGORIES:Thames Club Trial
END:VEVENT
BEGIN:VEVENT
DTSTART;TZID=Europe/London:20260628T103000
DTEND;TZID=Europe/London:20260628T160000
DTSTAMP:20260423T200529
CREATED:20251212T075400Z
LAST-MODIFIED:20251212T075400Z
UID:8240-1782642600-1782662400@www.thamesmcc.org
SUMMARY:Ray Nott Memorial Trial at Dews Farm
DESCRIPTION:
URL:https://www.thamesmcc.org/event/ray-nott-memorial-trial-at-dews-farm/
LOCATION:Dews Farm\, Harvil Road\, Harefield\, Hillingdon\, Greater London\, UB9 6JW\, United Kingdom
CATEGORIES:Thames Club Trial
END:VEVENT
BEGIN:VEVENT
DTSTART;TZID=Europe/London:20261129T100000
DTEND;TZID=Europe/London:20261129T153000
DTSTAMP:20260423T200529
CREATED:20251212T075717Z
LAST-MODIFIED:20251212T075717Z
UID:8244-1795946400-1795966200@www.thamesmcc.org
SUMMARY:Club Trial at Bagshot D1
DESCRIPTION:
URL:https://www.thamesmcc.org/event/club-trial-at-bagshot-d1-2/
LOCATION:Bagshot Heath D1\, The Maultway\, Camberley\, Surrey\, GU15 1PS\, United Kingdom
CATEGORIES:Thames Club Trial
END:VEVENT
END:VCALENDAR