BEGIN:VCALENDAR
VERSION:2.0
PRODID:-//Thames Motorcycle Club - ECPv6.15.20//NONSGML v1.0//EN
CALSCALE:GREGORIAN
METHOD:PUBLISH
X-ORIGINAL-URL:https://www.thamesmcc.org
X-WR-CALDESC:Events for Thames Motorcycle Club
REFRESH-INTERVAL;VALUE=DURATION:PT1H
X-Robots-Tag:noindex
X-PUBLISHED-TTL:PT1H
BEGIN:VTIMEZONE
TZID:Europe/London
BEGIN:DAYLIGHT
TZOFFSETFROM:+0000
TZOFFSETTO:+0100
TZNAME:BST
DTSTART:20180325T010000
END:DAYLIGHT
BEGIN:STANDARD
TZOFFSETFROM:+0100
TZOFFSETTO:+0000
TZNAME:GMT
DTSTART:20181028T010000
END:STANDARD
BEGIN:DAYLIGHT
TZOFFSETFROM:+0000
TZOFFSETTO:+0100
TZNAME:BST
DTSTART:20190331T010000
END:DAYLIGHT
BEGIN:STANDARD
TZOFFSETFROM:+0100
TZOFFSETTO:+0000
TZNAME:GMT
DTSTART:20191027T010000
END:STANDARD
BEGIN:DAYLIGHT
TZOFFSETFROM:+0000
TZOFFSETTO:+0100
TZNAME:BST
DTSTART:20200329T010000
END:DAYLIGHT
BEGIN:STANDARD
TZOFFSETFROM:+0100
TZOFFSETTO:+0000
TZNAME:GMT
DTSTART:20201025T010000
END:STANDARD
BEGIN:DAYLIGHT
TZOFFSETFROM:+0000
TZOFFSETTO:+0100
TZNAME:BST
DTSTART:20210328T010000
END:DAYLIGHT
BEGIN:STANDARD
TZOFFSETFROM:+0100
TZOFFSETTO:+0000
TZNAME:GMT
DTSTART:20211031T010000
END:STANDARD
BEGIN:DAYLIGHT
TZOFFSETFROM:+0000
TZOFFSETTO:+0100
TZNAME:BST
DTSTART:20220327T010000
END:DAYLIGHT
BEGIN:STANDARD
TZOFFSETFROM:+0100
TZOFFSETTO:+0000
TZNAME:GMT
DTSTART:20221030T010000
END:STANDARD
BEGIN:DAYLIGHT
TZOFFSETFROM:+0000
TZOFFSETTO:+0100
TZNAME:BST
DTSTART:20230326T010000
END:DAYLIGHT
BEGIN:STANDARD
TZOFFSETFROM:+0100
TZOFFSETTO:+0000
TZNAME:GMT
DTSTART:20231029T010000
END:STANDARD
END:VTIMEZONE
BEGIN:VEVENT
DTSTART;TZID=Europe/London:20220918T103000
DTEND;TZID=Europe/London:20220918T160000
DTSTAMP:20260421T102411
CREATED:20211209T091616Z
LAST-MODIFIED:20220630T174746Z
UID:5455-1663497000-1663516800@www.thamesmcc.org
SUMMARY:Round 8 of the 2022 Club Championship
DESCRIPTION:Round 8 of the 2022 Club Championship will be held at Kitsmead.
URL:https://www.thamesmcc.org/event/round-8-of-the-2022-club-championship/
LOCATION:Kitsmead\, Kitsmead Lane\, Longcross\, Surrey\, KT16 0EF\, United Kingdom
CATEGORIES:Thames Club Trial
END:VEVENT
BEGIN:VEVENT
DTSTART;TZID=Europe/London:20220821T103000
DTEND;TZID=Europe/London:20220821T160000
DTSTAMP:20260421T102411
CREATED:20211209T091335Z
LAST-MODIFIED:20211209T091410Z
UID:5453-1661077800-1661097600@www.thamesmcc.org
SUMMARY:Round 7 of the 2022 Club Championship
DESCRIPTION:Round 7 of the 2022 Club Championship will be held at Sethern.
URL:https://www.thamesmcc.org/event/round-7-of-the-2022-club-championship/
LOCATION:Sethern\, Rams Lane\, Dunsfold\, Surrey\, GU8 4NR\, United Kingdom
CATEGORIES:Thames Club Trial
END:VEVENT
BEGIN:VEVENT
DTSTART;TZID=Europe/London:20220724T103000
DTEND;TZID=Europe/London:20220724T160000
DTSTAMP:20260421T102411
CREATED:20211209T091156Z
LAST-MODIFIED:20211209T091156Z
UID:5451-1658658600-1658678400@www.thamesmcc.org
SUMMARY:Round 6 of the 2022 Club Championship
DESCRIPTION:Round 6 of the 2022 Club Championship will be held at Frensham Vale.
URL:https://www.thamesmcc.org/event/round-6-of-the-2022-club-championship/
LOCATION:Frensham Vale\, Gardeners Hill Rd\, Farnham\, Surrey\, GU9 9AZ\, United Kingdom
CATEGORIES:Thames Club Trial
END:VEVENT
BEGIN:VEVENT
DTSTART;TZID=Europe/London:20220619T103000
DTEND;TZID=Europe/London:20220619T160000
DTSTAMP:20260421T102411
CREATED:20211209T091034Z
LAST-MODIFIED:20211209T091034Z
UID:5449-1655634600-1655654400@www.thamesmcc.org
SUMMARY:Round 5 of the 2022 Club Championship
DESCRIPTION:Round 5 of the 2022 Club Championship will be at Dews Farm.
URL:https://www.thamesmcc.org/event/round-5-of-the-2022-club-championship/
LOCATION:Dews Farm\, Harvil Road\, Harefield\, Hillingdon\, Greater London\, UB9 6JW\, United Kingdom
CATEGORIES:Thames Club Trial
END:VEVENT
BEGIN:VEVENT
DTSTART;TZID=Europe/London:20220502T103000
DTEND;TZID=Europe/London:20220502T160000
DTSTAMP:20260421T102411
CREATED:20211209T090905Z
LAST-MODIFIED:20211209T092106Z
UID:5447-1651487400-1651507200@www.thamesmcc.org
SUMMARY:Round 4 of the 2022 Club Championship
DESCRIPTION:Round 4 of the 2022 Club Championship will be hosted by Normandy MCC at Betchworth Quarry.
URL:https://www.thamesmcc.org/event/round-2-of-the-2022-club-championship-2/
LOCATION:Betchworth Quarry\, Reigate Road\, Brockham\, Betchworth\, Surrey\, RH3 7HD\, United Kingdom
CATEGORIES:Thames Club Trial
END:VEVENT
BEGIN:VEVENT
DTSTART;TZID=Europe/London:20220327T100000
DTEND;TZID=Europe/London:20220327T160000
DTSTAMP:20260421T102411
CREATED:20211209T090708Z
LAST-MODIFIED:20211209T090708Z
UID:5444-1648375200-1648396800@www.thamesmcc.org
SUMMARY:Round 3 of the 2022 Club Championship
DESCRIPTION:Round 3 of the 2022 Club Championship will be at a new venue for Thames MCC\, The Rookery Quarry\, near Basingstoke. \nThe venue will be signposted on the A339 Basingstoke to Kingsclere Road\, from the Stone Circle premises. Postcode for Satnavs is RG238TH.
URL:https://www.thamesmcc.org/event/round-3-of-the-2022-club-championship/
LOCATION:Surrey
CATEGORIES:Thames Club Trial
END:VEVENT
BEGIN:VEVENT
DTSTART;TZID=Europe/London:20220227T100000
DTEND;TZID=Europe/London:20220227T160000
DTSTAMP:20260421T102411
CREATED:20211209T085903Z
LAST-MODIFIED:20220129T111411Z
UID:5439-1645956000-1645977600@www.thamesmcc.org
SUMMARY:Round 2 of the 2022 Club Championship
DESCRIPTION:Round 2 of the 2022 Club Championship. \nNote change of venue: Hungry Hill is not available\, hence the trial will take place at Bagshot south\, on the test track.
URL:https://www.thamesmcc.org/event/round-2-of-the-2022-club-championship/
LOCATION:Bagshot Heath D1\, The Maultway\, Camberley\, Surrey\, GU15 1PS\, United Kingdom
CATEGORIES:Thames Club Trial
END:VEVENT
BEGIN:VEVENT
DTSTART;TZID=Europe/London:20211219T100000
DTEND;TZID=Europe/London:20211219T160000
DTSTAMP:20260421T102411
CREATED:20211101T141546Z
LAST-MODIFIED:20211101T141546Z
UID:5388-1639908000-1639929600@www.thamesmcc.org
SUMMARY:Club Trial at Hook Woods 19th December 2021
DESCRIPTION:Round 9 of the 2021 Club Championship will take place at Hook Woods on December 19th. \nStart time is 10AM. \nEntry via the online ACU system.
URL:https://www.thamesmcc.org/event/club-trial-at-hook-woods-19th-december-2021/
LOCATION:Hookwood Trials Centre\, West Horsley\, West Horsley\, Surrey\, KT24 6EA\, United Kingdom
CATEGORIES:Thames Club Trial
END:VEVENT
BEGIN:VEVENT
DTSTART;TZID=Europe/London:20211128T100000
DTEND;TZID=Europe/London:20211128T160000
DTSTAMP:20260421T102411
CREATED:20211101T141138Z
LAST-MODIFIED:20211101T141342Z
UID:5383-1638093600-1638115200@www.thamesmcc.org
SUMMARY:Club Trial at Bagshot Heath 28th November 2021
DESCRIPTION:After almost 2 years\, we are back on MOD Land! \nBagshot D1 is the venue.  \nRound 8 of the 2021 Club Championship \nStart time 10AM. \nEntry via the ACU on line system.
URL:https://www.thamesmcc.org/event/club-trial-28th-november/
LOCATION:Bagshot Heath D1\, The Maultway\, Camberley\, Surrey\, GU15 1PS\, United Kingdom
CATEGORIES:Thames Club Trial
END:VEVENT
BEGIN:VEVENT
DTSTART;TZID=Europe/London:20201220T103000
DTEND;TZID=Europe/London:20201220T103000
DTSTAMP:20260421T102411
CREATED:20201202T102532Z
LAST-MODIFIED:20201219T175251Z
UID:5195-1608460200-1608460200@www.thamesmcc.org
SUMMARY:Club Trial at Kitsmead: CANCELLED
DESCRIPTION:19.12.20: TRIAL CANCELLED due to new Government rules. \nThames club trial at Kitsmead. \nAddress: Kitsmead Lane\, Longcross\, Surrey\, KT16 0EF. \nStart time 10.30. \nOn line entries now open. \nREGULATIONS 20-12-20
URL:https://www.thamesmcc.org/event/club-trial-at-kitsmead/
LOCATION:Surrey
CATEGORIES:Thames Club Trial
END:VEVENT
BEGIN:VEVENT
DTSTART;TZID=Europe/London:20201129T100000
DTEND;TZID=Europe/London:20201129T160000
DTSTAMP:20260421T102411
CREATED:20200105T171658Z
LAST-MODIFIED:20201102T121752Z
UID:3920-1606644000-1606665600@www.thamesmcc.org
SUMMARY:Cancelled: Round 10 2020 Club Championship
DESCRIPTION:NOTE: This event is now cancelled\, due to the new Corona Virus lockdown. \nSecretary: Martin Kemp \nClerk of the Course: Simon Dowling and Paul Heron.
URL:https://www.thamesmcc.org/event/round-10-2020-club-championship/
LOCATION:Brackendene\, Addlestone moor\, Chertsey\, Surrey\, KT15 2QH\, United Kingdom
CATEGORIES:Thames Club Trial
END:VEVENT
BEGIN:VEVENT
DTSTART;TZID=Europe/London:20201025T103000
DTEND;TZID=Europe/London:20201025T160000
DTSTAMP:20260421T102411
CREATED:20200105T171453Z
LAST-MODIFIED:20200105T171453Z
UID:3918-1603621800-1603641600@www.thamesmcc.org
SUMMARY:Round 9 2020 Club Championship
DESCRIPTION:Hosted by Normandy MCC.
URL:https://www.thamesmcc.org/event/round-9-2020-club-championship/
LOCATION:Frensham Vale\, Gardeners Hill Rd\, Farnham\, Surrey\, GU9 9AZ\, United Kingdom
CATEGORIES:Thames Club Trial
END:VEVENT
BEGIN:VEVENT
DTSTART;TZID=Europe/London:20200920T103000
DTEND;TZID=Europe/London:20200920T160000
DTSTAMP:20260421T102411
CREATED:20200105T171020Z
LAST-MODIFIED:20200826T145302Z
UID:3912-1600597800-1600617600@www.thamesmcc.org
SUMMARY:Round 8 2020 Club Championship
DESCRIPTION:Entries now open only via the ACU website. ACU permit number 59552. \nSecretary: Bob Brown. \nClerk of the Course: Steve Brown.
URL:https://www.thamesmcc.org/event/round-8-2020-club-championship/
LOCATION:Kitsmead\, Kitsmead Lane\, Longcross\, Surrey\, KT16 0EF\, United Kingdom
CATEGORIES:Thames Club Trial
END:VEVENT
BEGIN:VEVENT
DTSTART;TZID=Europe/London:20200823T103000
DTEND;TZID=Europe/London:20200823T160000
DTSTAMP:20260421T102411
CREATED:20200105T170521Z
LAST-MODIFIED:20200803T153930Z
UID:3910-1598178600-1598198400@www.thamesmcc.org
SUMMARY:Round 7 2020 Club Championship
DESCRIPTION:Note venue change to Mountain Wood Farm. \nHosted by Normandy MCC. \nRegulations and risk assessment attached. \nEntries now open\, you can only enter this event via the ACU on line entry system.  \nClosed Club Regs August 2020 \nCovid19 Trials RA 23082020
URL:https://www.thamesmcc.org/event/round-7-2020-club-championship/
LOCATION:Mountain Wood Farm\, Green Dene\, East Horsley\, Surrey\, KT24 5TA\, United Kingdom
CATEGORIES:Thames Club Trial
END:VEVENT
BEGIN:VEVENT
DTSTART;TZID=Europe/London:20200726T103000
DTEND;TZID=Europe/London:20200726T160000
DTSTAMP:20260421T102411
CREATED:20200105T170412Z
LAST-MODIFIED:20200721T122921Z
UID:3908-1595759400-1595779200@www.thamesmcc.org
SUMMARY:Round 6 2020 Club Championship: Entries now closed
DESCRIPTION:This event will take place in line with the ACU guidelines on Covid-19. \nEntries are now closed\, as we have reached the maximum number of permitted riders. Unfortunately day entries and spectators are not permitted. \nClerk of the Course: Mark Ward and Jon Yendall. \nProgramme attached. Restart Trial Programme
URL:https://www.thamesmcc.org/event/round-6-2020-club-championship/
LOCATION:Frensham Vale\, Gardeners Hill Rd\, Farnham\, Surrey\, GU9 9AZ\, United Kingdom
CATEGORIES:Thames Club Trial
END:VEVENT
BEGIN:VEVENT
DTSTART;TZID=Europe/London:20200621T103000
DTEND;TZID=Europe/London:20200621T160000
DTSTAMP:20260421T102411
CREATED:20200105T170300Z
LAST-MODIFIED:20200515T145350Z
UID:3906-1592735400-1592755200@www.thamesmcc.org
SUMMARY:Round 5 2020 Club Championship: CANCELLED
DESCRIPTION:Hosted by South Harrow club. \nClerk of the Course: Simon Dowling and Paul Heron.
URL:https://www.thamesmcc.org/event/round-5-2020-club-championship/
LOCATION:Dews Farm\, Harvil Road\, Harefield\, Hillingdon\, Greater London\, UB9 6JW\, United Kingdom
CATEGORIES:Thames Club Trial
END:VEVENT
BEGIN:VEVENT
DTSTART;TZID=Europe/London:20200503T103000
DTEND;TZID=Europe/London:20200503T160000
DTSTAMP:20260421T102411
CREATED:20200105T170133Z
LAST-MODIFIED:20200515T145423Z
UID:3904-1588501800-1588521600@www.thamesmcc.org
SUMMARY:Round 4 2020 Club Championship: Cancelled
DESCRIPTION:Hosted by Normandy MCC
URL:https://www.thamesmcc.org/event/round-4-2020-club-championship/
LOCATION:Betchworth Quarry\, Reigate Road\, Brockham\, Betchworth\, Surrey\, RH3 7HD\, United Kingdom
CATEGORIES:Thames Club Trial
END:VEVENT
BEGIN:VEVENT
DTSTART;TZID=Europe/London:20200329T103000
DTEND;TZID=Europe/London:20200329T160000
DTSTAMP:20260421T102411
CREATED:20200103T115551Z
LAST-MODIFIED:20200318T104659Z
UID:3879-1585477800-1585497600@www.thamesmcc.org
SUMMARY:Round 3 2020 Club Championship: Cancelled
DESCRIPTION:Event cancelled due to Coronavirus. \nSecretary: Martin Kemp \nClerk of the Course: Gary Brown
URL:https://www.thamesmcc.org/event/round-3-2020-club-championship/
LOCATION:Hookwood Trials Centre\, West Horsley\, West Horsley\, Surrey\, KT24 6EA\, United Kingdom
CATEGORIES:Thames Club Trial
END:VEVENT
BEGIN:VEVENT
DTSTART;TZID=Europe/London:20200223T103000
DTEND;TZID=Europe/London:20200223T160000
DTSTAMP:20260421T102411
CREATED:20200103T115443Z
LAST-MODIFIED:20200207T170943Z
UID:3877-1582453800-1582473600@www.thamesmcc.org
SUMMARY:Round 2 2020 Club Championship
DESCRIPTION:Thames MCC Club Champs Rd 02 – Hungry Hill \nRound 2 of the 2020 Club Championship will take place at Hungry Hill – Venue is now confirmed. \nRegulations attached. \nSecretary: Peter Steer \nClerk of Course: Martin Kemp
URL:https://www.thamesmcc.org/event/round-2-2020-club-championship/
LOCATION:Hungry Hill\, Borley Road\, Aldershot\, Hampshire\, GU11 1PZ\, United Kingdom
CATEGORIES:Thames Club Trial
END:VEVENT
BEGIN:VEVENT
DTSTART;TZID=Europe/London:20200119T103000
DTEND;TZID=Europe/London:20200119T160000
DTSTAMP:20260421T102411
CREATED:20200103T110956Z
LAST-MODIFIED:20200105T165926Z
UID:3837-1579429800-1579449600@www.thamesmcc.org
SUMMARY:Round One 2020 Club Championship
DESCRIPTION:Clerk of the Course: Nigel Hains
URL:https://www.thamesmcc.org/event/round-one-2020-club-championship/
LOCATION:Dews Farm\, Harvil Road\, Harefield\, Hillingdon\, Greater London\, UB9 6JW\, United Kingdom
CATEGORIES:Thames Club Trial
END:VEVENT
BEGIN:VEVENT
DTSTART;TZID=Europe/London:20191229T100000
DTEND;TZID=Europe/London:20191229T170000
DTSTAMP:20260421T102411
CREATED:20181219T195824Z
LAST-MODIFIED:20191204T083645Z
UID:1616-1577613600-1577638800@www.thamesmcc.org
SUMMARY:Mike Kemp Classic
DESCRIPTION:REGULATIONS  MIKE KEMP CLASSIC TRIAL 29.12.2019 \nSecretary: Bob Brown \nClerk of Course: Martin Kemp \n 
URL:https://www.thamesmcc.org/event/mike-kemp-classic/
LOCATION:Hungry Hill\, Borley Road\, Aldershot\, Hampshire\, GU11 1PZ\, United Kingdom
CATEGORIES:Other Club Trial,Thames Club Trial
END:VEVENT
BEGIN:VEVENT
DTSTART;TZID=Europe/London:20191215T100000
DTEND;TZID=Europe/London:20191215T170000
DTSTAMP:20260421T102411
CREATED:20181219T195403Z
LAST-MODIFIED:20191114T131308Z
UID:1612-1576404000-1576429200@www.thamesmcc.org
SUMMARY:2019 Championship Round 10
DESCRIPTION:Secretary: Normandy MCC \nClerk of Course: Normandy MCC
URL:https://www.thamesmcc.org/event/2019-championship-round-10/
LOCATION:Hookwood Trials Centre\, West Horsley\, West Horsley\, Surrey\, KT24 6EA\, United Kingdom
CATEGORIES:Other Club Trial,Thames Club Trial
END:VEVENT
BEGIN:VEVENT
DTSTART;TZID=Europe/London:20191124T100000
DTEND;TZID=Europe/London:20191124T170000
DTSTAMP:20260421T102411
CREATED:20181219T195157Z
LAST-MODIFIED:20191114T131329Z
UID:1610-1574589600-1574614800@www.thamesmcc.org
SUMMARY:2019 Championship Round 9
DESCRIPTION:Thames MCC 2019 Championship Round 9 at Bagshot Heath\n\nClerk of Course: Mark Ward / Jon Yendall\nWith Normandy MCC\n\n DOWNLOAD REGULATIONS
URL:https://www.thamesmcc.org/event/2019-championship-round-9/
LOCATION:Bagshot Heath D1\, The Maultway\, Camberley\, Surrey\, GU15 1PS\, United Kingdom
CATEGORIES:Other Club Trial,Thames Club Trial
END:VEVENT
BEGIN:VEVENT
DTSTART;TZID=Europe/London:20191027T103000
DTEND;TZID=Europe/London:20191027T170000
DTSTAMP:20260421T102411
CREATED:20181219T194921Z
LAST-MODIFIED:20181219T194921Z
UID:1608-1572172200-1572195600@www.thamesmcc.org
SUMMARY:2019 Championship Round 8
DESCRIPTION:Secretary: Normandy MCC \nClerk of Course: Normandy MCC
URL:https://www.thamesmcc.org/event/2019-championship-round-8/
LOCATION:Frensham Vale\, Gardeners Hill Rd\, Farnham\, Surrey\, GU9 9AZ\, United Kingdom
CATEGORIES:Other Club Trial,Thames Club Trial
END:VEVENT
BEGIN:VEVENT
DTSTART;TZID=Europe/London:20190922T103000
DTEND;TZID=Europe/London:20190922T170000
DTSTAMP:20260421T102411
CREATED:20181219T194600Z
LAST-MODIFIED:20190708T195527Z
UID:1604-1569148200-1569171600@www.thamesmcc.org
SUMMARY:2019 Championship Round 7
DESCRIPTION:Secretary: Steve Brown \nClerk of Course: Peter Thatcher \nREGULATIONS Round 7 – Kitsmead
URL:https://www.thamesmcc.org/event/2019-championship-round-7/
LOCATION:Kitsmead\, Kitsmead Lane\, Longcross\, Surrey\, KT16 0EF\, United Kingdom
CATEGORIES:Thames Club Trial
END:VEVENT
BEGIN:VEVENT
DTSTART;TZID=Europe/London:20190728T103000
DTEND;TZID=Europe/London:20190728T170000
DTSTAMP:20260421T102411
CREATED:20181219T194112Z
LAST-MODIFIED:20190730T155727Z
UID:1602-1564309800-1564333200@www.thamesmcc.org
SUMMARY:2019 Championship Round 6
DESCRIPTION:Secretary: Jeff Morgan \nClerk of Course: Steve Austin \nwith Normandy MCC \nREGULATIONS Round 6 – Sethern \nSETHERN RESULTS
URL:https://www.thamesmcc.org/event/2019-championship-round-6/
LOCATION:Sethern\, Rams Lane\, Dunsfold\, Surrey\, GU8 4NR\, United Kingdom
CATEGORIES:Other Club Trial,Thames Club Trial
END:VEVENT
BEGIN:VEVENT
DTSTART;TZID=Europe/London:20190616T103000
DTEND;TZID=Europe/London:20190616T170000
DTSTAMP:20260421T102411
CREATED:20181219T193822Z
LAST-MODIFIED:20181219T193822Z
UID:1600-1560681000-1560704400@www.thamesmcc.org
SUMMARY:2019 Championship Round 5
DESCRIPTION:Secretary: Bob Brown \nClerk of Course: Simon Dowling / Paul Heron \nWith South Harrow MCC
URL:https://www.thamesmcc.org/event/2019-championship-round-5/
LOCATION:Dews Farm\, Harvil Road\, Harefield\, Hillingdon\, Greater London\, UB9 6JW\, United Kingdom
CATEGORIES:Other Club Trial,Thames Club Trial
END:VEVENT
BEGIN:VEVENT
DTSTART;TZID=Europe/London:20190506T103000
DTEND;TZID=Europe/London:20190506T170000
DTSTAMP:20260421T102411
CREATED:20181219T193530Z
LAST-MODIFIED:20190508T193452Z
UID:1598-1557138600-1557162000@www.thamesmcc.org
SUMMARY:2019 Championship Round 4
DESCRIPTION:Secretary: Normandy MCC \nClerk of Course: Normandy MCC \nMay 19 Joint Club Trial Results \nPhotos from Richard Thomas
URL:https://www.thamesmcc.org/event/2019-championship-round-4/
LOCATION:Betchworth Quarry\, Reigate Road\, Brockham\, Betchworth\, Surrey\, RH3 7HD\, United Kingdom
CATEGORIES:Other Club Trial,Thames Club Trial
END:VEVENT
BEGIN:VEVENT
DTSTART;TZID=Europe/London:20190331T103000
DTEND;TZID=Europe/London:20190331T170000
DTSTAMP:20260421T102411
CREATED:20181219T193315Z
LAST-MODIFIED:20190404T191709Z
UID:1595-1554028200-1554051600@www.thamesmcc.org
SUMMARY:2019 Championship Round 3
DESCRIPTION:Secretary: Peter Steer \nClerk of Course: Martin Kemp \nWith Normandy MCC \nThames MCC Club Round 3 – Regulations \nResult Sheet \nPhotos from Richard Thomas \n 
URL:https://www.thamesmcc.org/event/2019-championship-round-3/
LOCATION:Hookwood Trials Centre\, West Horsley\, West Horsley\, Surrey\, KT24 6EA\, United Kingdom
CATEGORIES:Other Club Trial,Thames Club Trial
END:VEVENT
BEGIN:VEVENT
DTSTART;TZID=Europe/London:20190224T103000
DTEND;TZID=Europe/London:20190224T170000
DTSTAMP:20260421T102411
CREATED:20181219T192935Z
LAST-MODIFIED:20190209T183951Z
UID:1593-1551004200-1551027600@www.thamesmcc.org
SUMMARY:2019 Championship Round 2
DESCRIPTION:Thames MCC CLUB Rd 2 – Regulations \nSecretary : Martin Kemp \nClerk of Course: Steve Brown
URL:https://www.thamesmcc.org/event/2019-championship-round-2/
LOCATION:Mountain Wood Farm\, Green Dene\, East Horsley\, Surrey\, KT24 5TA\, United Kingdom
CATEGORIES:Thames Club Trial
END:VEVENT
END:VCALENDAR